Workbook

Sheet Notes
B2: LEGEND, SOURCES AND NOTES | K2: This budget database was last updated on: | L2: 46259
I3: Version (most recent data source) | L3: 2025 Final Budget Outcome
K4: by: | L4: Dorothy Kaupa and Rubayat Chowdhury
K5: email: | L5: rubayat.chowdhury@anu.edu.au | dorothy.kaupa@upng.ac.pg
B7: Welcome to the PNG budget information database
B8: This database is designed for use by any member of the public, researcher or government official.
B9: It compiles data from PNG Treasury, BPNG, IMF and the World Bank to create a single, comparative spreadsheet where line items in budgets can be compared across time.
B10: The format is the same as found in the PNG national government budgets
B11: If there are any errors/typos in found in the database, do please notify the database coordinator
B13: Referencing
B14: For those who want to use the database in their work. Please acknowledge the database as the Devpolicy PNG Budget Database, with the date accessed and URL below.
B15: https://crawford.anu.edu.au/devpolicy/png-budget-database
B17: Notes and how to read this database:
B19: Sources
B20: All the data is from PNG budgets, except for population and inflation, which draws broader economic data from a range of sources, as indicated.
B22: From the 2025 Final Budget Outcome
... B78: Acronyms:
B79: FBO | C79: Final Budget Outcome
B81: Colour coding system
B82: Background colour: | C82: The background colour indicates whether the column data is projected or final data.
B83: White | C83: Final or "Actual" outcome
B84: Dark grey | C84: Budgeted/projected outcome based on the most recent budget (including revised estimates), or on whatever data source is used.
B85: Light blue | C85: Data from the Final Budget Outcome documents, for comparison with budgeted data for the same year
B87: Text formatting
B88: Bold | C88: Figures in bold indicate a summary item that is a sum of the non-bolded items below it
B89: Italic | C89: Indicates that the figure is a subset of the non-bolded item above it
B90: Blue | C90: Used in the "compare" tabs to indicate data compiled using the old GFS1986 accounting standard
B91: Black | C91: Indicates data compiled using GFS 2014 accounting standard
B92: Light Green | C92: Indicates expenditure data relating to 2014 and 2015 is in GFS1986 format, but is no longer split by recurrent and development expenditure categories, so is not comparable to previous data
B93: Dark Green | C93: Used for previous budget projection comparisons
B94: Orange | C94: Used to indicate revenue data in 2015 that has been adjusted to reflect the use of gross GST (full details explained at the bottom of the Rev (Tb8) tab)
B95: Pink | C95: Used in the "Analysis" tab to indicate calculated figures
B96: Comments | C96: Comments and notes on particular data are available by hovering the mouse over cells that have a little red tab in the top right corner
C97: (Note: if you are looking at a note in one of the far left columns and cannot see the note, try scrolling the data as far as possible to the left. You should be able to see it)
B99: Table of Contents
B101: Tab 1 | C101: Legend & sources | E101: Notes on the database
B102: Tab 2 | C102: Changes | E102: Describes changes between this database and the previous one
B103: Tab 3 | C103: Check | E103: Compares old and new data (i.e. GFS1986 and GFS2014), as well as aggregates and summed components.
B104: Tab 4 | C104: Popn, Inflation, GDP, Trade | E104: Population, inflation, GDP and trade statistics from PNG Treasury, IMF, NSO, World Bank & BPNG
B105: Tab 5 | C105: GDP (Tb1) | E105: Appendix 2, Table 1 Nominal & real GDP and contribution by sector
...

Sheet Changes
A1: CHANGES | B1: This sheet tracks the changes that have been made in this database compared with previous databases
A3: 2025 FBO
A4: 2018 GDP figures in the "GDP (TB1)" are updated to "ACTUAL" and are taken from the 2026 National Budget.
A6: 2026 Budget
A7: "Recovery of Utility Charges" are addedd to the 2026 Budget, Table 12
A8: "Unclaimed Monies" are added to the 2026 Budget, Table 12
A9: "Out of scope for GFS coding purposes" are added in the 2026 budget, table 13B
A10: No MYEFO data is available at the detailed level, except for "Stocks of General Government Debt" (Table 15).
A11: It is Identified that there is no record of 2015 actuals
A12: In the GDP (Tb1), Total and Non Mining Nominal and Real GDP as well as Mining and Quarrying Nominal and Real GDP, for 2021 and 2022, were revised according to those figures in the 2026 budget
A14: 2021 FBO
A15: Added Non Resident Insurers Withholding Tax to Table 12
A16: GST of K2457.2 million in table 12 includes GST transfer to provinces of K721.2. Net of this GST transferred into Waigani Public Account(WPA) amounted to K1794.1 million
... A90: Added a red background and note in the Rev tabs to indicate where we think the numbers report "net" GST, and should instead report "gross" GST

Sheet Check
B1: COMPARISONS & CHECKS
B2: Compares old and new data (i.e. GFS1986 and GFS2014), as well as aggregates and summed components. | C2: 1989 | D2: =C2+1 -> 1990 | E2: =D2+1 -> 1991 | F2: =E2+1 -> 1992 | G2: =F2+1 -> 1993 | H2: =G2+1 -> 1994 | I2: =H2+1 -> 1995 | J2: =I2+1 -> 1996 | K2: =J2+1 -> 1997 | ... AF2: =AE2+1 -> 2018 | AG2: 2019 | AH2: 2020 | AI2: 2021 | AJ2: 2022 | AK2: 2023 | AL2: 2024 | AM2: 2025 | AN2: 2026 | AO2: 2027 | AP2: 2028 | AQ2: 2029 | AR2: 2030
B3: Revenue (old) | Z3: ='Rev compare'!Y6 -> 9566 | AA3: ='Rev compare'!Z6 -> 9832.7 | AB3: ='Rev compare'!AA6 -> 11497.6 | AC3: ='Rev compare'!AB6 -> 10963.5
B4: Revenue (new) | Z4: ='Rev compare'!Y5 -> 9418.9 | AA4: ='Rev compare'!Z5 -> 9897.5 | AB4: ='Rev compare'!AA5 -> 11874.9 | AC4: ='Rev compare'!AB5 -> 11003.1
B5: Difference between old and new | Z5: =Z4-Z3 -> -147.1 | AA5: =AA4-AA3 -> 64.8 | AB5: =AB4-AB3 -> 377.3 | AC5: =AC4-AC3 -> 39.6
B6: Difference as % of old total | Z6: =Z5/Z3 -> -0.015377378 | AA6: =AA5/AA3 -> 0.006590255 | AB6: =AB5/AB3 -> 0.032815544 | AC6: =AC5/AC3 -> 0.0036119852
B8: Expenditure (old) | Z8: ='Exp compare'!Z6 -> 10943.9 | AA8: ='Exp compare'!AA6 -> 12505.1 | AB8: ='Exp compare'!AB6 -> 14489.8 | AC8: ='Exp compare'!AC6 -> 13496.1
B9: Expenditure (new) | Z9: ='Exp compare'!Z5 -> 9943.3 | AA9: ='Exp compare'!AA5 -> 13175.8 | AB9: ='Exp compare'!AB5 -> 15454.1 | AC9: ='Exp compare'!AC5 -> 13768.8
B10: Difference between old and new | Z10: =Z9-Z8 -> -1000.6 | AA10: =AA9-AA8 -> 670.7 | AB10: =AB9-AB8 -> 964.3 | AC10: =AC9-AC8 -> 272.7
B11: Difference as % of old total | Z11: =Z10/Z8 -> -0.091429929 | AA11: =AA10/AA8 -> 0.053634117 | AB11: =AB10/AB8 -> 0.066550263 | AC11: =AC10/AC8 -> 0.020205837
B13: Total revenue and grants (old) | C13: ='Rev compare'!B6 -> 1013.9 | D13: ='Rev compare'!C6 -> 988.9 | E13: ='Rev compare'!D6 -> 1026.2 | F13: ='Rev compare'!E6 -> 1125.5 | G13: ='Rev compare'!F6 -> 1308.7 | H13: ='Rev compare'!G6 -> 1451.7 | I13: ='Rev compare'!H6 -> 1721.6 | J13: ='Rev compare'!I6 -> 1897.7 | ... AC13: ='Rev compare'!AB6 -> 10963.5
B14: Total revenue and grants (by addition) | C14: ='Rev compare'!B9+'Rev compare'!B53+'Rev compare'!B83+'Rev compare'!B101 -> 1013.9 | D14: ='Rev compare'!C9+'Rev compare'!C53+'Rev compare'!C83+'Rev compare'!C101 -> 988.8 | E14: ='Rev compare'!D9+'Rev compare'!D53+'Rev compare'!D83+'Rev compare'!D101 -> 1026.2 | F14: ='Rev compare'!E9+'Rev compare'!E53+'Rev compare'!E83+'Rev compare'!E101 -> 1125.5 | G14: ='Rev compare'!F9+'Rev compare'!F53+'Rev compare'!F83+'Rev compare'!F101 -> 1308.6 | H14: ='Rev compare'!G9+'Rev compare'!G53+'Rev compare'!G83+'Rev compare'!G101 -> 1451.7 | I14: ='Rev compare'!H9+'Rev compare'!H53+'Rev compare'!H83+'Rev compare'!H101 -> 1721.5 | J14: ='Rev compare'!I9+'Rev compare'!I53+'Rev compare'!I83+'Rev compare'!I101 -> 1897.7 | ... AC14: ='Rev compare'!AB9+'Rev compare'!AB53+'Rev compare'!AB83+'Rev compare'!AB101 -> 10963.5
B15: Difference | C15: =C13-C14 -> 0 | D15: =D13-D14 -> 0.1 | E15: =E13-E14 -> 0 | F15: =F13-F14 -> 0 | G15: =G13-G14 -> 0.1 | H15: =H13-H14 -> 0 | I15: =I13-I14 -> 0.1 | J15: =J13-J14 -> 0 | ... AC15: =AC13-AC14 -> 0
B17: Total revenue and grants (new) | Z17: ='Rev compare'!Y5 -> 9418.9 | AA17: ='Rev compare'!Z5 -> 9897.5 | AB17: ='Rev compare'!AA5 -> 11874.9 | AC17: ='Rev compare'!AB5 -> 11003.1 | AD17: ='Rev compare'!AC5 -> 10485.5 | AE17: ='Rev compare'!AD5 -> 11525.1 | AF17: ='Rev compare'!AE5 -> 14085.1 | AG17: ='Rev compare'!AF5 -> 13680.5 | ... AO17: ='Rev compare'!AN5 -> 31463.5
B18: Total revenue and grants (by addition) | Z18: ='Rev compare'!Y8+'Rev compare'!Y52+'Rev compare'!Y82 -> 9418.9 | AA18: ='Rev compare'!Z8+'Rev compare'!Z52+'Rev compare'!Z82 -> 9897.4 | AB18: ='Rev compare'!AA8+'Rev compare'!AA52+'Rev compare'!AA82 -> 11874.9 | AC18: ='Rev compare'!AB8+'Rev compare'!AB52+'Rev compare'!AB82 -> 11003.1 | AD18: ='Rev compare'!AC8+'Rev compare'!AC52+'Rev compare'!AC82 -> 10485.6 | AE18: ='Rev compare'!AD8+'Rev compare'!AD52+'Rev compare'!AD82 -> 11525.1 | AF18: ='Rev compare'!AE8+'Rev compare'!AE52+'Rev compare'!AE82 -> 14085.2 | AG18: ='Rev compare'!AF8+'Rev compare'!AF52+'Rev compare'!AF82 -> 13680.5 | ... AO18: ='Rev compare'!AN8+'Rev compare'!AN52+'Rev compare'!AN82 -> 31463.5
B19: Difference | Z19: =Z17-Z18 -> 0 | AA19: =AA17-AA18 -> 0.1 | AB19: =AB17-AB18 -> 0 | AC19: =AC17-AC18 -> 0 | AD19: =AD17-AD18 -> -0.1 | AE19: =AE17-AE18 -> 0 | AF19: =AF17-AF18 -> -0.1 | AG19: =AG17-AG18 -> 0 | ... AO19: =AO17-AO18 -> 0
B21: Total expenditure and net lending (exp compare) (old) | C21: ='Exp compare'!C6 -> 1049.1 | D21: ='Exp compare'!D6 -> 1089.1 | E21: ='Exp compare'!E6 -> 1187.8 | F21: ='Exp compare'!F6 -> 1358.3 | G21: ='Exp compare'!G6 -> 1605.1 | H21: ='Exp compare'!H6 -> 1605.5 | I21: ='Exp compare'!I6 -> 1755 | J21: ='Exp compare'!J6 -> 1860.8 | ... AC21: ='Exp compare'!AC6 -> 13496.1
B22: Total expenditure (exp compare) (old) (by addition) | C22: ='Exp compare'!C9+'Exp compare'!C33+'Exp compare'!C65+'Exp compare'!C86+'Exp compare'!C101+'Exp compare'!C105+'Exp compare'!C112+'Exp compare'!C137+'Exp compare'!C139+'Exp compare'!C143 -> 1049.2 | D22: ='Exp compare'!D9+'Exp compare'!D33+'Exp compare'!D65+'Exp compare'!D86+'Exp compare'!D101+'Exp compare'!D105+'Exp compare'!D112+'Exp compare'!D137+'Exp compare'!D139+'Exp compare'!D143 -> 1089.1 | E22: ='Exp compare'!E9+'Exp compare'!E33+'Exp compare'!E65+'Exp compare'!E86+'Exp compare'!E101+'Exp compare'!E105+'Exp compare'!E112+'Exp compare'!E137+'Exp compare'!E139+'Exp compare'!E143 -> 1187.9 | F22: ='Exp compare'!F9+'Exp compare'!F33+'Exp compare'!F65+'Exp compare'!F86+'Exp compare'!F101+'Exp compare'!F105+'Exp compare'!F112+'Exp compare'!F137+'Exp compare'!F139+'Exp compare'!F143 -> 1358.4 | G22: ='Exp compare'!G9+'Exp compare'!G33+'Exp compare'!G65+'Exp compare'!G86+'Exp compare'!G101+'Exp compare'!G105+'Exp compare'!G112+'Exp compare'!G137+'Exp compare'!G139+'Exp compare'!G143 -> 1605.1 | H22: ='Exp compare'!H9+'Exp compare'!H33+'Exp compare'!H65+'Exp compare'!H86+'Exp compare'!H101+'Exp compare'!H105+'Exp compare'!H112+'Exp compare'!H137+'Exp compare'!H139+'Exp compare'!H143 -> 1605.5 | I22: ='Exp compare'!I9+'Exp compare'!I33+'Exp compare'!I65+'Exp compare'!I86+'Exp compare'!I101+'Exp compare'!I105+'Exp compare'!I112+'Exp compare'!I137+'Exp compare'!I139+'Exp compare'!I143 -> 1755 | J22: ='Exp compare'!J9+'Exp compare'!J33+'Exp compare'!J65+'Exp compare'!J86+'Exp compare'!J101+'Exp compare'!J105+'Exp compare'!J112+'Exp compare'!J137+'Exp compare'!J139+'Exp compare'!J143 -> 1860.8 | ... Y22: ='Exp compare'!Y9+'Exp compare'!Y33+'Exp compare'!Y65+'Exp compare'!Y86+'Exp compare'!Y101+'Exp compare'!Y105+'Exp compare'!Y112+'Exp compare'!Y137+'Exp compare'!Y139+'Exp compare'!Y143 -> 8595.9 | Z22: ='Exp compare'!Z9+'Exp compare'!Z33+'Exp compare'!Z65+'Exp compare'!Z86+'Exp compare'!Z101+'Exp compare'!Z105+'Exp compare'!Z145+'Exp compare'!Z112+'Exp compare'!Z137+'Exp compare'!Z139+'Exp compare'!Z143 -> 10943.9 | AA22: ='Exp compare'!AA9+'Exp compare'!AA33+'Exp compare'!AA65+'Exp compare'!AA86+'Exp compare'!AA101+'Exp compare'!AA105+'Exp compare'!AA112+'Exp compare'!AA137+'Exp compare'!AA139+'Exp compare'!AA143 -> 12505.2 | AB22: ='Exp compare'!AB9+'Exp compare'!AB33+'Exp compare'!AB65+'Exp compare'!AB86+'Exp compare'!AB101+SUM('Exp compare'!AB126:AB129)+'Exp compare'!AB143 -> 14489.9 | AC22: ='Exp compare'!AC9+'Exp compare'!AC33+'Exp compare'!AC65+'Exp compare'!AC86+'Exp compare'!AC101+SUM('Exp compare'!AC126:AC129)+'Exp compare'!AC143 -> 13495.85
B23: Difference | C23: =C22-C21 -> 0.1 | D23: =D22-D21 -> 0 | E23: =E22-E21 -> 0.1 | F23: =F22-F21 -> 0.1 | G23: =G22-G21 -> 0 | H23: =H22-H21 -> 0 | I23: =I22-I21 -> 0 | J23: =J22-J21 -> 0 | ... AC23: =AC22-AC21 -> -0.25
B25: Total expenditure and net lending Tb13B (new) | Z25: ='Exp (Tb13B)'!C99 -> 9943.3 | AA25: ='Exp (Tb13B)'!D99 -> 13175.8 | AB25: ='Exp (Tb13B)'!E99 -> 15454.1 | AC25: ='Exp (Tb13B)'!F99 -> 13768.8 | AD25: ='Exp (Tb13B)'!G99 -> 13218.5 | AE25: ='Exp (Tb13B)'!H99 -> 13319.8 | AF25: ='Exp (Tb13B)'!I99 -> 16134.2 | AG25: ='Exp (Tb13B)'!J99 -> 17852.5 | ... AR25: ='Exp (Tb13B)'!U99 -> 36326.3
B26: Total expenditure Tb13B (new) (by addition) | Z26: =SUM('Exp (Tb13B)'!C5,'Exp (Tb13B)'!C28,'Exp (Tb13B)'!C54,'Exp (Tb13B)'!C41,'Exp (Tb13B)'!C89,'Exp (Tb13B)'!C82) -> 9943.4 | AA26: =SUM('Exp (Tb13B)'!D5,'Exp (Tb13B)'!D28,'Exp (Tb13B)'!D54,'Exp (Tb13B)'!D41,'Exp (Tb13B)'!D89,'Exp (Tb13B)'!D82) -> 13175.8 | AB26: =SUM('Exp (Tb13B)'!E5,'Exp (Tb13B)'!E28,'Exp (Tb13B)'!E54,'Exp (Tb13B)'!E41,'Exp (Tb13B)'!E89,'Exp (Tb13B)'!E82) -> 15454.2 | AC26: =SUM('Exp (Tb13B)'!F5,'Exp (Tb13B)'!F28,'Exp (Tb13B)'!F54,'Exp (Tb13B)'!F41,'Exp (Tb13B)'!F89,'Exp (Tb13B)'!F82, 'Exp (Tb13B)'!F76) -> 13768.8 | AD26: =SUM('Exp (Tb13B)'!G5,'Exp (Tb13B)'!G28,'Exp (Tb13B)'!G54,'Exp (Tb13B)'!G41,'Exp (Tb13B)'!G89,'Exp (Tb13B)'!G82, 'Exp (Tb13B)'!G76) -> 13218.5 | AE26: =SUM('Exp (Tb13B)'!H5,'Exp (Tb13B)'!H28,'Exp (Tb13B)'!H54,'Exp (Tb13B)'!H41,'Exp (Tb13B)'!H89,'Exp (Tb13B)'!H82, 'Exp (Tb13B)'!H76) -> 13319.8 | AF26: =SUM('Exp (Tb13B)'!I5,'Exp (Tb13B)'!I28,'Exp (Tb13B)'!I54,'Exp (Tb13B)'!I41,'Exp (Tb13B)'!I89,'Exp (Tb13B)'!I82, 'Exp (Tb13B)'!I76) -> 16134.2 | AG26: =SUM('Exp (Tb13B)'!J5,'Exp (Tb13B)'!J28,'Exp (Tb13B)'!J54,'Exp (Tb13B)'!J41,'Exp (Tb13B)'!J89,'Exp (Tb13B)'!J82, 'Exp (Tb13B)'!J76) -> 17852.6 | AH26: =SUM('Exp (Tb13B)'!K5,'Exp (Tb13B)'!K28,'Exp (Tb13B)'!K54,'Exp (Tb13B)'!K41,'Exp (Tb13B)'!K89,'Exp (Tb13B)'!K82, 'Exp (Tb13B)'!K76) -> 19397.8 | AI26: =SUM('Exp (Tb13B)'!L5,'Exp (Tb13B)'!L28,'Exp (Tb13B)'!L54,'Exp (Tb13B)'!L41,'Exp (Tb13B)'!L89,'Exp (Tb13B)'!L82, 'Exp (Tb13B)'!L76) -> 20130.8 | AJ26: =SUM('Exp (Tb13B)'!M5,'Exp (Tb13B)'!M28,'Exp (Tb13B)'!M54,'Exp (Tb13B)'!M41,'Exp (Tb13B)'!M89,'Exp (Tb13B)'!M82, 'Exp (Tb13B)'!M76) -> 24389.9 | ... AR26: =SUM('Exp (Tb13B)'!U5,'Exp (Tb13B)'!U28,'Exp (Tb13B)'!U54,'Exp (Tb13B)'!U41,'Exp (Tb13B)'!U89,'Exp (Tb13B)'!U82, 'Exp (Tb13B)'!U76) -> 36326.3
B27: Difference | Z27: =Z26-Z25 -> 0.1 | AA27: =AA26-AA25 -> 0 | AB27: =AB26-AB25 -> 0.1 | AC27: =AC26-AC25 -> 0 | AD27: =AD26-AD25 -> 0 | AE27: =AE26-AE25 -> 0 | AF27: =AF26-AF25 -> 0 | AG27: =AG26-AG25 -> 0.1 | ... AR27: =AR26-AR25 -> 0
B29: Total expenditure and net lending Tb13A (new) | Z29: ='Exp (Tb13A)'!C5 -> 9943.3 | AA29: ='Exp (Tb13A)'!D5 -> 13175.5 | AB29: ='Exp (Tb13A)'!E5 -> 15453.9 | AC29: ='Exp (Tb13A)'!F5 -> 13788.8 | AD29: ='Exp (Tb13A)'!G5 -> 13572.5 | AE29: ='Exp (Tb13A)'!H5 -> 13319.9 | AF29: ='Exp (Tb13A)'!I5 -> 16134.2 | AG29: ='Exp (Tb13A)'!J5 -> 17852.5 | ... AR29: ='Exp (Tb13A)'!U5 -> 36326.3
B30: Total expenditure and net lending Tb13A (new) (by addition) | Z30: =SUM('Exp (Tb13A)'!C7,'Exp (Tb13A)'!C13,'Exp (Tb13A)'!C15,'Exp (Tb13A)'!C19,'Exp (Tb13A)'!C23,'Exp (Tb13A)'!C25,'Exp (Tb13A)'!C29,'Exp (Tb13A)'!C40) -> 9942.8 | AA30: =SUM('Exp (Tb13A)'!D7,'Exp (Tb13A)'!D13,'Exp (Tb13A)'!D15,'Exp (Tb13A)'!D19,'Exp (Tb13A)'!D23,'Exp (Tb13A)'!D25,'Exp (Tb13A)'!D29,'Exp (Tb13A)'!D40) -> 13175.5 | AB30: =SUM('Exp (Tb13A)'!E7,'Exp (Tb13A)'!E13,'Exp (Tb13A)'!E15,'Exp (Tb13A)'!E19,'Exp (Tb13A)'!E23,'Exp (Tb13A)'!E25,'Exp (Tb13A)'!E29,'Exp (Tb13A)'!E40) -> 15453.9 | AC30: =SUM('Exp (Tb13A)'!F7,'Exp (Tb13A)'!F13,'Exp (Tb13A)'!F15,'Exp (Tb13A)'!F19,'Exp (Tb13A)'!F23,'Exp (Tb13A)'!F25,'Exp (Tb13A)'!F29,'Exp (Tb13A)'!F40) -> 13788.9 | AD30: =SUM('Exp (Tb13A)'!G7,'Exp (Tb13A)'!G13,'Exp (Tb13A)'!G15,'Exp (Tb13A)'!G19,'Exp (Tb13A)'!G23,'Exp (Tb13A)'!G25,'Exp (Tb13A)'!G29,'Exp (Tb13A)'!G40) -> 13572.5 | AE30: =SUM('Exp (Tb13A)'!H7,'Exp (Tb13A)'!H13,'Exp (Tb13A)'!H15,'Exp (Tb13A)'!H19,'Exp (Tb13A)'!H23,'Exp (Tb13A)'!H25,'Exp (Tb13A)'!H29,'Exp (Tb13A)'!H40) -> 13319.9 | AF30: =SUM('Exp (Tb13A)'!I7,'Exp (Tb13A)'!I13,'Exp (Tb13A)'!I15,'Exp (Tb13A)'!I19,'Exp (Tb13A)'!I23,'Exp (Tb13A)'!I25,'Exp (Tb13A)'!I29,'Exp (Tb13A)'!I40) -> 16134.3 | AG30: =SUM('Exp (Tb13A)'!J7,'Exp (Tb13A)'!J13,'Exp (Tb13A)'!J15,'Exp (Tb13A)'!J19,'Exp (Tb13A)'!J23,'Exp (Tb13A)'!J25,'Exp (Tb13A)'!J29,'Exp (Tb13A)'!J40) -> 17852.5 | ... AR30: =SUM('Exp (Tb13A)'!U7,'Exp (Tb13A)'!U13,'Exp (Tb13A)'!U15,'Exp (Tb13A)'!U19,'Exp (Tb13A)'!U23,'Exp (Tb13A)'!U25,'Exp (Tb13A)'!U29,'Exp (Tb13A)'!U40) -> 36326.2
B31: Difference | Z31: =Z29-Z30 -> 0.5 | AA31: =AA29-AA30 -> 0 | AB31: =AB29-AB30 -> 0 | AC31: =AC29-AC30 -> -0.1 | AD31: =AD29-AD30 -> 0 | AE31: =AE29-AE30 -> 0 | AF31: =AF29-AF30 -> -0.1 | AG31: =AG29-AG30 -> 0 | ... AR31: =AR29-AR30 -> 0.1
B33: National departments Tb13B (new) | Z33: ='Exp compare'!Z8 -> 6643.9 | AA33: ='Exp compare'!AA8 -> 8778.2 | AB33: ='Exp compare'!AB8 -> 9947.9 | AC33: ='Exp compare'!AC8 -> 6337.6 | AD33: ='Exp compare'!AD8 -> 5390.3 | AE33: ='Exp compare'!AE8 -> 5728.3 | AF33: ='Exp compare'!AF8 -> 6746.2 | AG33: ='Exp compare'!AG8 -> 8120.4 | ... AR33: ='Exp compare'!AR8 -> 14008.3
B34: National departments (by addition) (new) | Z34: =SUM('Exp (Tb13B)'!C6,'Exp (Tb13B)'!C11,'Exp (Tb13B)'!C12,'Exp (Tb13B)'!C13,'Exp (Tb13B)'!C14,'Exp (Tb13B)'!C24,'Exp (Tb13B)'!C26,'Exp (Tb13B)'!C25,'Exp (Tb13B)'!C76) -> 6643.8 | AA34: =SUM('Exp (Tb13B)'!D6,'Exp (Tb13B)'!D11,'Exp (Tb13B)'!D12,'Exp (Tb13B)'!D13,'Exp (Tb13B)'!D14,'Exp (Tb13B)'!D24,'Exp (Tb13B)'!D26,'Exp (Tb13B)'!D25,'Exp (Tb13B)'!D76) -> 8778.1 | AB34: =SUM('Exp (Tb13B)'!E6,'Exp (Tb13B)'!E11,'Exp (Tb13B)'!E12,'Exp (Tb13B)'!E13,'Exp (Tb13B)'!E14,'Exp (Tb13B)'!E24,'Exp (Tb13B)'!E26,'Exp (Tb13B)'!E25,'Exp (Tb13B)'!E76) -> 9947.8 | AC34: =SUM('Exp (Tb13B)'!F6,'Exp (Tb13B)'!F11,'Exp (Tb13B)'!F12,'Exp (Tb13B)'!F13,'Exp (Tb13B)'!F14,'Exp (Tb13B)'!F24,'Exp (Tb13B)'!F26,'Exp (Tb13B)'!F25) -> 6337.6 | AD34: =SUM('Exp (Tb13B)'!G6,'Exp (Tb13B)'!G11,'Exp (Tb13B)'!G12,'Exp (Tb13B)'!G13,'Exp (Tb13B)'!G14,'Exp (Tb13B)'!G24,'Exp (Tb13B)'!G26,'Exp (Tb13B)'!G25) -> 5390.3 | AE34: =SUM('Exp (Tb13B)'!H6,'Exp (Tb13B)'!H11,'Exp (Tb13B)'!H12,'Exp (Tb13B)'!H13,'Exp (Tb13B)'!H14,'Exp (Tb13B)'!H24,'Exp (Tb13B)'!H26,'Exp (Tb13B)'!H25) -> 5728.3 | AF34: =SUM('Exp (Tb13B)'!I6,'Exp (Tb13B)'!I11,'Exp (Tb13B)'!I12,'Exp (Tb13B)'!I13,'Exp (Tb13B)'!I14,'Exp (Tb13B)'!I24,'Exp (Tb13B)'!I26,'Exp (Tb13B)'!I25) -> 6746.2 | AG34: =SUM('Exp (Tb13B)'!J6,'Exp (Tb13B)'!J11,'Exp (Tb13B)'!J12,'Exp (Tb13B)'!J13,'Exp (Tb13B)'!J14,'Exp (Tb13B)'!J24,'Exp (Tb13B)'!J26,'Exp (Tb13B)'!J25) -> 8135.6 | AH34: =SUM('Exp (Tb13B)'!K6,'Exp (Tb13B)'!K11,'Exp (Tb13B)'!K12,'Exp (Tb13B)'!K13,'Exp (Tb13B)'!K14,'Exp (Tb13B)'!K24,'Exp (Tb13B)'!K26,'Exp (Tb13B)'!K25) -> 7858.7 | AI34: =SUM('Exp (Tb13B)'!L6,'Exp (Tb13B)'!L11,'Exp (Tb13B)'!L12,'Exp (Tb13B)'!L13,'Exp (Tb13B)'!L14,'Exp (Tb13B)'!L24,'Exp (Tb13B)'!L26,'Exp (Tb13B)'!L25) -> 7982.6 | AJ34: =SUM('Exp (Tb13B)'!M6,'Exp (Tb13B)'!M11,'Exp (Tb13B)'!M12,'Exp (Tb13B)'!M13,'Exp (Tb13B)'!M14,'Exp (Tb13B)'!M24,'Exp (Tb13B)'!M26,'Exp (Tb13B)'!M25) -> 10949.8 | ... AR34: =SUM('Exp (Tb13B)'!U6,'Exp (Tb13B)'!U11,'Exp (Tb13B)'!U12,'Exp (Tb13B)'!U13,'Exp (Tb13B)'!U14,'Exp (Tb13B)'!U24,'Exp (Tb13B)'!U26,'Exp (Tb13B)'!U25) -> 14008.2
B35: Difference | Z35: =Z33-Z34 -> 0.1 | AA35: =AA33-AA34 -> 0.1 | AB35: =AB33-AB34 -> 0.1 | AC35: =AC33-AC34 -> 0 | AD35: =AD33-AD34 -> 0 | AE35: =AE33-AE34 -> 0 | AF35: =AF33-AF34 -> 0 | AG35: =AG33-AG34 -> -15.2 | ... AR35: =AR33-AR34 -> 0.1
B36: Interest | Z36: ='Exp compare'!Z100 -> 452.3 | AA36: ='Exp compare'!AA100 -> 521.1 | AB36: ='Exp compare'!AB100 -> 933.1 | AC36: ='Exp compare'!AC100 -> 1074.7 | AD36: ='Exp compare'!AD100 -> 1264.3 | AE36: ='Exp compare'!AE100 -> 1633.9 | AF36: ='Exp compare'!AF100 -> 1934.7 | AG36: ='Exp compare'!AG100 -> 2147.2 | ... AR36: ='Exp compare'!AR100 -> 3818.9
B38: Surplus/(Deficit) (Fin compare) (old) | D38: =-'Fin compare'!C55 -> -100.2 | E38: =-'Fin compare'!D55 -> -161.6 | F38: =-'Fin compare'!E55 -> -232.8 | G38: =-'Fin compare'!F55 -> -296.5 | H38: =-'Fin compare'!G55 -> -153.8 | I38: =-'Fin compare'!H55 -> -33.5 | J38: =-'Fin compare'!I55 -> 36.9 | K38: =-'Fin compare'!J55 -> 9.6 | ... AC38: =-'Fin compare'!AB55 -> -2532.7
B39: Revenue minus Expenditure (rev & exp compare) (old) | D39: ='Rev compare'!C6-'Exp compare'!D6 -> -100.2 | E39: ='Rev compare'!D6-'Exp compare'!E6 -> -161.6 | F39: ='Rev compare'!E6-'Exp compare'!F6 -> -232.8 | G39: ='Rev compare'!F6-'Exp compare'!G6 -> -296.4 | H39: ='Rev compare'!G6-'Exp compare'!H6 -> -153.8 | I39: ='Rev compare'!H6-'Exp compare'!I6 -> -33.4 | J39: ='Rev compare'!I6-'Exp compare'!J6 -> 36.9 | K39: ='Rev compare'!J6-'Exp compare'!K6 -> 9.6 | ... AC39: ='Rev compare'!AB6-'Exp compare'!AC6 -> -2532.6
B40: Difference | D40: =D38-D39 -> 0 | E40: =E38-E39 -> 0 | F40: =F38-F39 -> 0 | G40: =G38-G39 -> -0.1 | H40: =H38-H39 -> 0 | I40: =I38-I39 -> -0.1 | J40: =J38-J39 -> -9.2370556e-14 | K40: =K38-K39 -> -3.6415315e-13 | ... AC40: =AC38-AC39 -> -0.1
B42: Surplus/(Deficit) (Tb14) (new)* | Z42: ='Fin compare'!Y73 -> -523.95221 | AA42: ='Fin compare'!Z73 -> -3278.0487 | AB42: ='Fin compare'!AA73 -> -3579.0405 | AC42: ='Fin compare'!AB73 -> -3012.4 | AD42: ='Fin compare'!AC73 -> -3086.8 | AE42: ='Fin compare'!AD73 -> -1794.6 | AF42: ='Fin compare'!AE73 -> -2048.3 | AG42: ='Fin compare'!AF73 -> -4172 | ... AR42: ='Fin compare'!AQ73 -> 6755
B43: Revenue minus Expenditure (rev & exp compare) (new) | Z43: ='Rev compare'!Y5-'Exp compare'!Z5 -> -524.4 | AA43: ='Rev compare'!Z5-'Exp compare'!AA5 -> -3278.3 | AB43: ='Rev compare'!AA5-'Exp compare'!AB5 -> -3579.2 | AC43: ='Rev compare'!AB5-'Exp compare'!AC5 -> -2765.7 | AD43: ='Rev compare'!AC5-'Exp compare'!AD5 -> -2733 | AE43: ='Rev compare'!AD5-'Exp compare'!AE5 -> -1794.7 | AF43: ='Rev compare'!AE5-'Exp compare'!AF5 -> -2049.1 | AG43: ='Rev compare'!AF5-'Exp compare'!AG5 -> -4172 | ... AR43: ='Rev compare'!AQ5-'Exp compare'!AR5 -> 6754.6
B44: Difference | Z44: =Z42-Z43 -> 0.44779 | AA44: =AA42-AA43 -> 0.25126 | AB44: =AB42-AB43 -> 0.1595 | AC44: =AC42-AC43 -> -246.7 | AD44: =AD42-AD43 -> -353.8 | AE44: =AE42-AE43 -> 0.1 | AF44: =AF42-AF43 -> 0.8 | AG44: =AG42-AG43 -> 0 | ... AR44: =AR42-AR43 -> 0.4
B46: Suggestions for comparisons
A47: a. | B47: National department expenditure(GFS2014) includes interest for the years 2012 to 2014, but not afterwards, suggest removing interest from 2012-2014 national dept figures if comparing across time
A48: b. | B48: In 2011, using GFS1986, there is a difference between the deficit and revenue minus expenditure; suggest using figure for total expenditure used in the deficit calculation (i.e. total expenditure = 9370.6 (p.19 of 2013 Budget)).

Sheet GDP (Tb1)
A1: TABLE 1: GROSS DOMESTIC PRODUCT BY | B1: =C1-1 -> 1989 | C1: =D1-1 -> 1990 | D1: =E1-1 -> 1991 | E1: =F1-1 -> 1992 | F1: =G1-1 -> 1993 | G1: 1994 | H1: 1995 | I1: 1996 | J1: 1997 | K1: 1998 | L1: 1999 | M1: 2000 | N1: 2001 | O1: 2002 | P1: 2003 | Q1: 2004 | R1: 2005 | S1: =R1+1 -> 2006 | T1: =S1+1 -> 2007 | U1: 2008 | V1: =U1+1 -> 2009 | W1: =V1+1 -> 2010 | X1: =W1+1 -> 2011 | Y1: 2012 | Z1: 2013 | AA1: 2014 | AB1: 2015 | AC1: 2016 | AD1: 2017 | AE1: 2018 | AF1: 2019 | AG1: 2020 | AH1: 2021 | AI1: 2022 | AJ1: 2023 | AK1: 2024 | AL1: 2025 | AM1: 2026 | AN1: 2027 | AO1: 2028 | AP1: 2029 | AQ1: 2030
A2: ECONOMIC ACTIVITY AT CURRENT PRICES | B2: ACTUAL | C2: ACTUAL | D2: ACTUAL | E2: ACTUAL | F2: ACTUAL | G2: ACTUAL | H2: ACTUAL | I2: ACTUAL | J2: ACTUAL | K2: ACTUAL | L2: ACTUAL | M2: ACTUAL | N2: ACTUAL | O2: ACTUAL | P2: ACTUAL | Q2: ACTUAL | R2: ACTUAL | S2: ACTUAL | T2: ACTUAL | U2: ACTUAL | V2: ACTUAL | W2: ACTUAL | X2: ACTUAL | Y2: ACTUAL | Z2: ACTUAL | AA2: ACTUAL | AB2: ACTUAL | AC2: ACTUAL | AD2: ACTUAL | AE2: ACTUAL | AF2: ACTUAL | AG2: ACTUAL | AH2: ACTUAL | AI2: ACTUAL | AJ2: ACTUAL | AK2: ESTIMATE | AL2: PROJECTION | AM2: PROJECTION | AN2: PROJECTION | AO2: PROJECTION | AP2: PROJECTION | AQ2: PROJECTION
B3: BPNG | C3: BPNG | D3: BPNG | E3: BPNG | F3: BPNG | G3: BPNG | H3: BPNG | I3: BPNG | J3: BPNG | K3: BPNG | L3: BPNG | M3: BPNG | N3: BPNG | O3: FBO | P3: FBO | Q3: FBO | R3: FBO | S3: FBO | T3: 2018 Budget | U3: 2018 Budget | V3: 2018 Budget | W3: 2018 Budget | X3: 2018 Budget | Y3: 2018 Budget | Z3: 2018 Budget | AA3: 2018 Budget | AB3: 2018 Budget | AC3: 2021 Budget | AD3: 2021 Budget | AE3: 2026 Budget | AF3: 2026 Budget | AG3: 2026 Budget | AH3: 2026 Budget | AI3: 2026 Budget | AJ3: 2026 Budget | AK3: 2026 Budget | AL3: 2026 Budget | AM3: 2026 Budget | AN3: 2026 Budget | AO3: 2026 Budget | AP3: 2026 Budget | AQ3: 2026 Budget
A4: BY SECTOR
A5: Agriculture, Forestry and Fishing
A6: nominal | B6: 856.3 | C6: 891.3 | D6: 936.5 | E6: 1033.5 | F6: 1328.7 | G6: 1532.1 | H6: 1692.6 | I6: 1831.9 | J6: 1874.2 | K6: 3105.2 | L6: 2707.2 | M6: 2638 | N6: 2847 | O6: 4428 | P6: 4819.4 | Q6: 4550.8 | R6: 5019.9 | S6: 5327.3 | T6: 5550 | U6: 6358 | V6: 6929 | W6: 7599 | X6: 8187 | Y6: 8552 | Z6: 9191 | AA6: 10106 | AB6: 10911.5 | AC6: 11619.9 | AD6: 12799.8 | AE6: 13478 | AF6: 14234.5 | AG6: 15476 | AH6: 17399.7 | AI6: 18835.3 | AJ6: 18760.6 | AK6: 22085.5 | AL6: 24588 | AM6: 26274.9 | AN6: 27804.6 | AO6: 29705.9 | AP6: 31861.2 | AQ6: 33865
A7: deflator | O7: 158.8 | P7: 164.6 | Q7: 148.6 | R7: 152.9 | S7: 160.5 | T7: 74.5 | U7: 84.2 | V7: 86.7 | W7: 92.5 | X7: 98.8 | Y7: 97.4 | Z7: 100 | AA7: 106.4 | AB7: 112.5 | AC7: 122.4 | AD7: 131.7 | AE7: 132.6 | AF7: 136.9 | AG7: 146.2 | AH7: 162.6 | AI7: 170.7 | AJ7: 168.4 | AK7: 191.6 | AL7: 206.5 | AM7: 213.9 | AN7: 219.9 | AO7: 228.3 | AP7: 237.7 | AQ7: 195.5
A8: real | O8: 2788.8 | P8: 2927.2 | Q8: 3062.1 | R8: 3284 | S8: 3318.2 | T8: 7453 | U8: 7553 | V8: 7992 | W8: 8217 | X8: 8287 | Y8: 8781 | Z8: 9191 | AA8: 9494 | AB8: 9701.3 | AC8: 9496.8 | AD8: 9720.4 | AE8: 10164.7 | AF8: 10394.4 | AG8: 10588.1 | AH8: 10702.6 | AI8: 11035.3 | AJ8: 11141.3 | AK8: 11526.8 | AL8: 11907.6 | AM8: 12281.7 | AN8: 12642 | AO8: 13013.8 | AP8: 13405.7 | AQ8: 13774.5
A9: rate of real growth | O9: -4.1 | P9: 5 | Q9: 4.6 | R9: 5.6 | S9: 1 | T9: -1.1 | U9: 1.3 | V9: 5.8 | W9: 2.8 | X9: 0.9 | Y9: 6 | Z9: 4.7 | AA9: 3.3 | AB9: 2.2 | AC9: 2.7 | AD9: 2.4 | AE9: 4.6 | AF9: 2.3 | AG9: 1.9 | AH9: 1.1 | AI9: 3.1 | AJ9: 1 | AK9: 3.5 | AL9: 3.3 | AM9: 3.1 | AN9: 2.9 | AO9: 2.9 | AP9: 3 | AQ9: 2.8
A11: Oil and Gas Extraction
A12: nominal | O12: 1096.7 | P12: 853 | Q12: 738.4 | R12: 2038.1 | S12: 2269.5 | T12: 1977 | U12: 2347 | V12: 1094 | W12: 1490 | X12: 1674 | Y12: 1399 | Z12: 1515 | AA12: 6403 | AB12: 9800.4 | AC12: 9657.8 | AD12: 11953.9 | AE12: 13888.2 | AF12: 14719.8 | AG12: 11663.3 | AH12: 15675.2 | AI12: 26397.7 | AJ12: 20917.2 | AK12: 22198.5 | AL12: 19578.8 | AM12: 19390.4 | AN12: 19857.4 | AO12: 22133.9 | AP12: 22706.8 | AQ12: 24275.7
A13: deflator | O13: 402.3 | P13: 317.8 | Q13: 300.5 | R13: 591.8 | S13: 681.9 | T13: 88.3 | U13: 119.1 | V13: 66.9 | W13: 86.9 | X13: 112.4 | Y13: 95.6 | Z13: 100 | AA13: 109.1 | AB13: 86.4 | AC13: 70.6 | AD13: 83.9 | AE13: 122.5 | AF13: 112.7 | AG13: 90 | AH13: 130.3 | AI13: 216.4 | AJ13: 169.4 | AK13: 182.3 | AL13: 160.2 | AM13: 159.8 | AN13: 163.8 | AO13: 182.8 | AP13: 187.7 | AQ13: 200.8
A14: real | O14: 272.6 | P14: 268.4 | Q14: 245.7 | R14: 344.4 | S14: 332.8 | T14: 2239 | U14: 1970 | V14: 1636 | W14: 1715 | X14: 1489 | Y14: 1463 | Z14: 1515 | AA14: 5870 | AB14: 11349.3 | AC14: 13683 | AD14: 14244.1 | AE14: 11339.6 | AF14: 13056.7 | AG14: 12960.5 | AH14: 12034.6 | AI14: 12198.5 | AJ14: 12347.3 | AK14: 12176.5 | AL14: 12221.6 | AM14: 12133.1 | AN14: 12119.4 | AO14: 12108.3 | AP14: 12100.3 | AQ14: 12086.9
A15: rate of real growth | O15: -36.1 | P15: -1.5 | Q15: -8.5 | R15: 13 | S15: -3.4 | T15: 4 | U15: -12 | V15: -17 | W15: 4.8 | X15: -13.2 | Y15: -1.7 | Z15: 3.6 | AA15: 287.5 | AB15: 93.3 | AC15: 6.7 | AD15: 4.1 | AE15: -15.3 | AF15: 15.1 | AG15: -0.7 | AH15: -7.1 | AI15: 1.4 | AJ15: 1.2 | AK15: -1.4 | AL15: 0.4 | AM15: -0.7 | AN15: -0.1 | AO15: -0.1 | AP15: -0.1 | AQ15: -0.1
A17: Mining and Quarrying
A18: nominal | B18: 352.7 | C18: 452.2 | D18: 612.9 | E18: 1012.6 | F18: 1294.8 | G18: 1276.9 | H18: 1793.6 | I18: 1752.5 | J18: 1288.3 | K18: 1868.3 | L18: 2355.5 | M18: 2662.7 | N18: 2745.1 | O18: 1252.1 | P18: 1398.8 | Q18: 1652.7 | R18: 2023.6 | S18: 2773.2 | T18: 5253 | U18: 5607 | V18: 5016 | W18: 6415 | X18: 6281 | Y18: 4856 | Z18: 4963 | AA18: 5179 | AB18: 4716.8 | AC18: 5862.3 | AD18: 7428.5 | AE18: 8237 | AF18: 9038.7 | AG18: 8377.9 | AH18: 7517.1 | AI18: 9126.1 | AJ18: 9389.2 | AK18: 12068.9 | AL18: 18573.3 | AM18: 22816.2 | AN18: 24783.4 | AO18: 26482 | AP18: 27902.5 | AQ18: 27902.5
A19: deflator | O19: 186.9 | P19: 199.6 | Q19: 227.7 | R19: 259 | S19: 397.5 | AC19: 93.6 | AD19: 102.1 | AE19: 110.8 | AF19: 115.4 | AG19: 139.3 | AH19: 158.6 | AI19: 167.8 | AJ19: 170.1 | AK19: 201.1 | AL19: 275.8 | AM19: 312.8 | AN19: 344.3 | AO19: 357.5 | AP19: 357.5 | AQ19: 357.5
A20: real | O20: 669.9 | P20: 700.7 | Q20: 725.9 | R20: 781.3 | S20: 697.6 | AC20: 6264 | AD20: 7277.4 | AE20: 7435.7 | AF20: 7832.4 | AG20: 6016.2 | AH20: 4739.7 | AI20: 5437.6 | AJ20: 5519.3 | AK20: 6002.8 | AL20: 6733.8 | AM20: 7294.6 | AN20: 7473.9 | AO20: 7690.5 | AP20: 7805.7 | AQ20: 7830.8
A21: rate of real growth | O21: -3.5 | P21: 4.6 | Q21: 3.6 | R21: -3.2 | S21: -10.7 | AC21: 17.4 | AD21: 16.2 | AE21: 2.2 | AF21: 5.3 | AG21: -23.2 | AH21: -21.2 | AI21: 14.7 | AJ21: 1.5 | AK21: 8.8 | AL21: 12.2 | AM21: 8.3 | AN21: 2.5 | AO21: 2.9 | AP21: 1.5 | AQ21: 0.3
A23: Manufacturing
A24: nominal | B24: 336.9 | C24: 275.8 | D24: 345.1 | E24: 390.3 | F24: 411 | G24: 454.4 | H24: 496.6 | I24: 602.9 | J24: 609 | L24: 778.9 | O24: 729.3 | P24: 820.8 | Q24: 848.3 | R24: 928.1 | S24: 974.7 | T24: 682 | U24: 792 | V24: 830 | W24: 946 | X24: 1070 | Y24: 1094 | Z24: 1165 | AA24: 1216 | AB24: 1302.4 | AC24: 1256.1 | AD24: 1410.8 | AE24: 1369.1 | AF24: 1418.2 | AG24: 1390.6 | AH24: 1559 | AI24: 1812.5 | AJ24: 1836.8 | AK24: 1921.8 | AL24: 2087.8 | AM24: 2261.8 | AN24: 2504.2 | AO24: 2770.8 | AP24: 3067.3 | AQ24: 3395.5
A25: deflator | O25: 130.2 | P25: 139.8 | Q25: 141.3 | R25: 142.7 | S25: 144.1 | AC25: 120.4 | AD25: 130.4 | AE25: 135.7 | AF25: 141.4 | AG25: 148.1 | AH25: 154.8 | AI25: 163 | AJ25: 166.7 | AK25: 167.7 | AL25: 174.3 | AM25: 181.6 | AN25: 190.8 | AO25: 200.3 | AP25: 210.3 | AQ25: 220.9
A26: real | O26: 560 | P26: 587.1 | Q26: 600.4 | R26: 650.4 | S26: 676.4 | AE26: 1008.9 | AF26: 1003.1 | AG26: 938.7 | AH26: 1007.1 | AI26: 1112.1 | AJ26: 1101.9 | AK26: 1145.9 | AL26: 1197.5 | AM26: 1245.4 | AN26: 1312.7 | AO26: 1383.5 | AP26: 1458.2 | AQ26: 1537
A27: rate of real growth | O27: -5.8 | P27: 4.8 | Q27: 2.3 | R27: 8.3 | S27: 4 | AE27: -6.7 | AF27: -0.6 | AG27: -6.4 | AH27: 7.3 | AI27: 10.4 | AJ27: -0.9 | AK27: 4 | AL27: 4.5 | AM27: 4 | AN27: 5.4 | AO27: 5.4 | AP27: 5.4 | AQ27: 5.4
A29: Electricity, gas and water
A30: nominal (discontinued) | B30: 49 | C30: 52.3 | D30: 59.2 | E30: 65.1 | F30: 66.3 | G30: 72.9 | H30: 80.2 | I30: 89.9 | J30: 88.5 | L30: 103 | O30: 193.8 | P30: 228.7 | Q30: 263.7 | R30: 301.3 | S30: 337.7
A31: deflator | O31: 181.6 | P31: 189 | Q31: 209 | R31: 225.7 | S31: 249.8
A32: real | O32: 106.7 | P32: 121 | Q32: 126.2 | R32: 133.5 | S32: 135.2
A33: rate of real growth | O33: -0.4 | P33: 13.4 | Q33: 4.3 | R33: 5.1 | S33: 1.3
A35: Electricity, gas and air conditioning
A36: nominal | T36: 229 | U36: 255 | V36: 294 | W36: 307 | X36: 348 | Y36: 386 | Z36: 453 | AA36: 497 | AB36: 548.7 | AC36: 541.2 | AD36: 588.2 | AE36: 638 | AF36: 685.8 | AG36: 722.3 | AH36: 709 | AI36: 721.1 | AJ36: 743.9 | AK36: 785.8 | AL36: 853.7 | AM36: 937.2 | AN36: 1035.5 | AO36: 1142.1 | AP36: 1259.5 | AQ36: 1389
A37: deflator | AC37: 105.7 | AD37: 109.8 | AE37: 114.1 | AF37: 117.9 | AG37: 118.7 | AH37: 119.5 | AI37: 120.9 | AJ37: 123.4 | AK37: 124.1 | AL37: 129 | AM37: 135.2 | AN37: 142.2 | AO37: 149.4 | AP37: 156.9 | AQ37: 164.8
A38: real | AC38: 511.9 | AD38: 535.7 | AE38: 559.1 | AF38: 581.5 | AG38: 608.3 | AH38: 593.4 | AI38: 596.6 | AJ38: 603 | AK38: 633.2 | AL38: 661.7 | AM38: 693.4 | AN38: 728.1 | AO38: 764.5 | AP38: 802.7 | AQ38: 842.9
A39: rate of real growth | AE39: 4.4 | AF39: 4 | AG39: 4.6 | AH39: -2.5 | AI39: 0.5 | AJ39: 1.1 | AK39: 5 | AL39: 4.5 | AM39: 4.8 | AN39: 5 | AO39: 5 | AP39: 5 | AQ39: 5
A41: Water supply & waste management
A42: nominal | T42: 44 | U42: 53 | V42: 57 | W42: 61 | X42: 77 | Y42: 83 | Z42: 96 | AA42: 112 | AB42: 123 | AC42: 124.9 | AD42: 137.9 | AE42: 152.1 | AF42: 158.2 | AG42: 176.5 | AH42: 191.2 | AI42: 209.5 | AJ42: 250.9 | AK42: 270.1 | AL42: 294.5 | AM42: 322.1 | AN42: 355 | AO42: 390.9 | AP42: 430.7 | AQ42: 474.5
A43: deflator | AC43: 137.6 | AD43: 144.5 | AE43: 144.8 | AF43: 144.8 | AG43: 151.9 | AH43: 154.3 | AI43: 157.5 | AJ43: 188.6 | AK43: 189.8 | AL43: 197.3 | AM43: 205.5 | AN43: 215.9 | AO43: 226.6 | AP43: 238 | AQ43: 250
A44: real | AC44: 90.7 | AD44: 95.5 | AE44: 105 | AF44: 109.3 | AG44: 116.2 | AH44: 123.9 | AI44: 133 | AJ44: 133 | AK44: 142.3 | AL44: 149.3 | AM44: 156.7 | AN44: 164.4 | AO44: 172.5 | AP44: 180.9 | AQ44: 189.8
A45: rate of real growth | AE45: 10 | AF45: 4.1 | AG45: 6.3 | AH45: 6.7 | AI45: 7.3 | AJ45: 0 | AK45: 7 | AL45: 4.9 | AM45: 5 | AN45: 4.9 | AO45: 4.9 | AP45: 4.9 | AQ45: 4.9
A47: Construction
...

Sheet Rev (Tb12)
A1: Table 12: GENERAL GOVERNMENT REVENUE | B1: 2012 | C1: 2013 | D1: 2014 | E1: 2015 | F1: 2016 | G1: 2017 | H1: 2018 | I1: 2019 | J1: 2020 | K1: 2021 | L1: 2022 | M1: 2023 | N1: 2024 | O1: 2025 | P1: 2026 Budget | Q1: 2027 | R1: 2028 | S1: 2029 | T1: 2030
A2: ECONOMIC CLASSIFICATION | B2: ACTUAL | C2: ACTUAL | D2: ACTUAL | E2: ACTUAL | F2: ACTUAL | G2: ACTUAL | H2: ACTUAL | I2: ACTUAL | J2: ACTUAL | K2: ACTUAL | L2: ACTUAL | M2: ACTUAL | N2: ACTUAL | O2: ACTUAL | P2: PROJECTION | Q2: PROJECTION | R2: PROJECTION | S2: PROJECTION | T2: PROJECTION
A3: (Kina Million) | B3: 2016 Budget | C3: 2016 Budget | D3: 2016 Budget | E3: 2018 Budget* | F3: 2018 Budget | G3: 2019 Budget | H3: 2020 Budget | I3: 2019 FBO | J3: 2020 FBO | K3: 2021 FBO | L3: 2022 FBO | M3: 2023 FBO | N3: 2024 FBO | O3: 2025 FBO | P3: 2026 Budget | Q3: 2026 Budget | R3: 2026 Budget | S3: 2026 Budget | T3: 2026 Budget
A5: TOTAL REVENUE (Incl. grants) | B5: 9418.9 | C5: 9897.5 | D5: 11874.9 | E5: 11003.1 | F5: 10485.5 | G5: 11525.1 | H5: 14085.1 | I5: 13680.5 | J5: 12093.3 | K5: 13860.4 | L5: 18538.2 | M5: 19810.1 | N5: 20826.2 | O5: 23234.6 | P5: 28657.1 | Q5: 31463.5 | R5: 34347.9 | S5: 39240.1 | T5: 43080.9
A7: TAXES | B7: 8219 | C7: 8879.6 | D7: 10232.1 | E7: 9157.6 | F7: 8421.6 | G7: 9141.4 | H7: 10475.9 | I7: 10918.1 | J7: 9802.1 | K7: 11129.4 | L7: 16453.6 | M7: 17627 | N7: 18447 | O7: 19901.3 | P7: 22140.5 | Q7: 24715.3 | R7: 27341.7 | S7: 31766.2 | T7: 35098.8
A9: Taxes on Income, Profits and Capital Gains | B9: 5629.2 | C9: 5848.5 | D9: 6778.9 | E9: 5894.2 | F9: 5286.2 | G9: 5317.4 | H9: 6119.2 | I9: 6070.4 | J9: =J10+J12+J17 -> 5668.6 | K9: 6356.1 | L9: 11252.6 | M9: 11730.4 | N9: 12364.8 | O9: 13124.8 | P9: 14879.3 | Q9: 16053.6 | R9: 17473 | S9: 20613.5 | T9: 22439.9
A10: Payable by individuals | B10: 2645.1 | C10: 2808.4 | D10: 3195.1 | E10: 3037.1 | F10: 2844.3 | G10: 3093.8 | H10: 3101.9 | I10: 3211.6 | J10: 3517.3 | K10: 3467.9 | L10: 3652.1 | M10: 4149.8 | N10: 4396.6 | O10: 4750.4 | P10: 4955 | Q10: 5452.3 | R10: 5879.4 | S10: 6432.2 | T10: 7018.1
A11: Personal Income Tax | B11: 2645.1 | C11: 2808.4 | D11: 3195.1 | E11: 3037.1 | F11: 2844.3 | G11: 3093.8 | H11: 3101.9 | I11: 3211.6 | J11: 3517.3 | K11: 3467.9 | L11: 3652.1 | M11: 4149.8 | N11: 4396.6 | O11: 4750.4 | P11: 4955 | Q11: 5452.3 | R11: 5879.4 | S11: 6432.2 | T11: 7018.1
A12: Payable by corporations and other enterprises | B12: 2739.3 | C12: 2755.1 | D12: 3353.9 | E12: 2621.6 | F12: 2230.1 | G12: 1950.4 | H12: 2751.9 | I12: 2500.6 | J12: 1787.9 | K12: 2374.9 | L12: 6844 | M12: 7002.2 | N12: 7212.7 | O12: 7584.2 | P12: 9014.3 | Q12: 9605.7 | R12: 10485.6 | S12: 12965.5 | T12: 14090.3
A13: Company Tax | B13: 1740.5 | C13: 2060.5 | D13: 2522.4 | E13: 2374.8 | F13: 2093.8 | G13: 1794.1 | H13: 1933 | I13: 1696.9 | J13: 1554.2 | K13: 1690.3 | L13: 2756.9 | M13: 3031.6 | N13: 3418.7 | O13: 3613.3 | P13: 4023.4 | Q13: 4601.6 | R13: 5221.6 | S13: 5930.2 | T13: 6694.7
A14: Mining and Petroleum Taxes | B14: 981.1 | C14: 666.7 | D14: 794.2 | E14: 195.4 | F14: 92 | G14: 113.6 | H14: 775 | I14: 760.7 | J14: 183.4 | K14: 635.4 | L14: 4036.1 | M14: 3906.5 | N14: 3707.1 | O14: 3883 | P14: 4850 | Q14: 4850 | R14: 5092.5 | S14: 6847.1 | T14: 7189.4
A15: Royalties Tax | B15: 11.4 | C15: 18.6 | D15: 22.4 | E15: 30.8 | F15: 26.6 | G15: 25.6 | H15: 26.3 | I15: 25.8 | J15: 30.1 | K15: 29.6 | L15: 30.6 | M15: 38.4 | N15: 52.1 | O15: 52.7 | P15: 83.6 | Q15: 91.4 | R15: 101.8 | S15: 111.7 | T15: 122.3
A16: Management Tax | B16: 6.3 | C16: 9.2 | D16: 14.9 | E16: 20.5 | F16: 17.7 | G16: 17.1 | H16: 17.6 | I16: 17.2 | J16: 20.1 | K16: 19.7 | L16: 20.4 | M16: 25.6 | N16: 34.7 | O16: 35.2 | P16: 57.3 | Q16: 62.7 | R16: 69.8 | S16: 76.6 | T16: 83.9
A17: Other taxes on income, profits and capital gains | B17: 244.8 | C17: 285 | D17: 229.9 | E17: 235.6 | F17: 211.8 | G17: 273.1 | H17: 265.4 | I17: 358.2 | J17: 363.4 | K17: 513.3 | L17: 756.5 | M17: 578.3 | N17: 755.5 | O17: 790.2 | P17: 910 | Q17: 995.5 | R17: 1107.9 | S17: 1215.8 | T17: 1331.5
A18: Dividend Withholding Tax Mining | B18: 13.3 | E18: - | G18: 0 | H18: 0 | I18: 0 | J18: 0 | K18: 0 | L18: 0 | M18: 0 | N18: 0 | O18: 0 | P18: 0 | Q18: 0 | R18: 0 | S18: 0 | T18: 0
A19: Dividend Withholding Tax Non Mining | B19: 163.2 | C19: 244.5 | D19: 186.1 | E19: 168.9 | F19: 132.6 | G19: 181.7 | H19: 154.6 | I19: 215 | J19: 215.9 | K19: 366 | L19: 680.6 | M19: 375.2 | N19: 535.8 | O19: 548.5 | P19: 633.7 | Q19: 693.3 | R19: 771.6 | S19: 846.8 | T19: 927.4
A20: Non Resident Insurers Withholding Tax | K20: 20.2 | L20: 20.3 | M20: 11.6 | N20: 14.2 | O20: 15.1 | P20: 15.1 | Q20: 16.5 | R20: 18.4 | S20: 20.2 | T20: 22.1
A21: Interest Withholding Tax | B21: 67.4 | C21: 38.5 | D21: 43.1 | E21: 66 | F21: 78.7 | G21: 91.4 | H21: 110.8 | I21: 128 | J21: 134.9 | K21: 127 | L21: 55.3 | M21: 189.3 | N21: 204.7 | O21: 221.9 | P21: 260.5 | Q21: 285 | R21: 317.2 | S21: 348.1 | T21: 381.2
A22: Tax Related Court Fines | G22: 0 | H22: 0 | I22: 14.6 | J22: 12.6 | K22: 0 | L22: 0 | M22: 0 | N22: 0 | O22: 0 | P22: 0 | Q22: 0 | R22: 0 | S22: 0 | T22: 0
A23: Sundry IRC Taxes & Income | B23: 0.9 | C23: 2 | D23: 0.7 | E23: 0.6 | F23: 0.5 | G23: 0.02 | H23: 0 | J23: 0 | K23: 0 | L23: 0.3 | M23: 2.2 | N23: 0.9 | O23: 4.7 | P23: 0.7 | Q23: 0.7 | R23: 0.7 | S23: 0.7 | T23: 0.7
A25: Taxes on Payroll and Workforce | B25: 3.7 | C25: 6.4 | D25: 14.6 | E25: 18 | F25: 14.4 | G25: 11.2 | H25: 8.6 | I25: 1.9 | J25: 0.4 | K25: 0.8 | L25: 1.4 | M25: 2 | N25: 0.3 | O25: 2.1 | P25: 2.3 | Q25: 2.5 | R25: 2.8 | S25: 3.1 | T25: 3.3
A26: Training Levy | G26: 11.2 | H26: 8.6 | I26: 1.9 | J26: 0.4 | K26: 0.8 | L26: 1.4 | M26: 2 | N26: 0.3 | O26: 2.1 | P26: 2.3 | Q26: 2.5 | R26: 2.8 | S26: 3.1 | T26: 3.3
A28: Taxes on Goods and Services | B28: 2183.1 | C28: 2549.2 | D28: 2883.6 | E28: 2680.2 | F28: 2584.1 | G28: 3255.1 | H28: 3537.3 | I28: 3936.6 | J28: =J29+J38+J41+J42+J46+J59 -> 3372.7 | K28: 3993.7 | L28: 4293.5 | M28: 5227 | N28: 5320.2 | O28: 5989.6 | P28: 6358 | Q28: 7579.1 | R28: 8575.2 | S28: 9669.8 | T28: 10935
A29: General taxes on goods and services | B29: 1162.2 | C29: 1563.4 | D29: 1806 | E29: 1693.2 | F29: 1521.8 | G29: 1911.3 | H29: 2167.4 | I29: 2299.2 | J29: =J30+J36 -> 2122.5 | K29: 2458.6 | L29: 2505.3 | M29: 3617.5 | N29: 3151.5 | O29: 3657.2 | P29: 3860.5 | Q29: 4610.8 | R29: 5156.4 | S29: 5719.1 | T29: 6321.4
A30: Value Added Tax | G30: 1868.8 | H30: 2067.1 | I30: 2252.5 | J30: 2079.2 | K30: 2457.2 | L30: 2475.1 | M30: 3598.6 | N30: 3077.6 | O30: 3557.8 | P30: 3767.1 | Q30: 4508.7 | R30: 5042.7 | S30: 5594.3 | T30: 6184.8
A31: GST* | B31: 1092.1 | C31: 1496.1 | D31: 1668.8 | E31: 1567 | F31: 1442.6 | G31: 1868.8 | H31: 2067.1 | I31: 2252.5 | J31: 2079.2 | K31: 2457.2 | L31: 2475.1 | M31: 3598.6 | N31: 3077.6 | O31: 3557.8 | P31: 3767.1 | Q31: 4508.7 | R31: 5042.7 | S31: 5594.3 | T31: 6184.8
A32: GST Collection at Provinces | G32: 1131.1 | H32: 1120.3 | I32: 1368.2 | J32: 1325 | K32: 1450.6 | L32: 1693.6 | M32: 2937.8 | N32: 2304.2 | O32: 2892.8 | P32: 2997.6 | Q32: 3629.4 | R32: 3970.6 | S32: 4343.8 | T32: 4752.2
A33: GST Collection at Ports | G33: 1299 | H33: 1089 | I33: 1106.4 | J33: 982.1 | K33: 1104.3 | L33: 1112.4 | M33: 1499.8 | N33: 1564.7 | O33: 1634 | P33: 1783.6 | Q33: 1995.1 | R33: 2220.5 | S33: 2436.8 | T33: 2668.7
A34: GST Refunds | G34: 267.2 | H34: 288.3 | I34: 276.5 | J34: 228 | K34: 97.6 | L34: 330.9 | M34: 839 | N34: 791.3 | O34: 969 | P34: 1014.1 | Q34: 1115.8 | R34: 1148.4 | S34: 1186.3 | T34: 1236.1
A35: GST from IRC Trust | G35: -294.1 | H35: 146 | I35: 54.4 | J35: 0 | K35: 0 | L35: 0 | M35: 0 | N35: 0 | O35: 0 | P35: 0 | Q35: 0 | R35: 0 | S35: 0 | T35: 0
A36: Taxes on financial and capital transactions | G36: 42.4 | H36: 100.3 | I36: 46.6 | J36: 43.3 | K36: 1.4 | L36: 30.3 | M36: 18.9 | N36: 73.9 | O36: 99.5 | P36: 93.4 | Q36: 102.1 | R36: 113.7 | S36: 124.8 | T36: 136.6
A37: Stamp Duties | B37: 70.2 | C37: 67.3 | D37: 137.3 | E37: 126.1 | F37: 79.2 | G37: 42.4 | H37: 100.3 | I37: 46.6 | J37: 43.3 | K37: 1.4 | L37: 30.3 | M37: 18.9 | N37: 73.9 | O37: 99.5 | P37: 93.4 | Q37: 102.1 | R37: 113.7 | S37: 124.8 | T37: 136.6
A38: Excise | B38: 855.3 | C38: 814.4 | D38: 889.1 | E38: 802 | F38: 875.9 | G38: 1105 | H38: 1074.8 | I38: 1360.7 | J38: =J39+J40 -> 1074.6 | K38: 1281.2 | L38: 1404.4 | M38: 1224.1 | N38: 1711.3 | O38: 1900.8 | P38: 2075.7 | Q38: 2492.1 | R38: 2873.7 | S38: 3353.6 | T38: 3872.8
A39: Excise Duty | B39: 560.5 | C39: 541.9 | D39: 638.6 | E39: 503.3 | F39: 603.7 | G39: 757.3 | H39: 774 | I39: 1061 | J39: 817 | K39: 998.3 | L39: 1157.2 | M39: 896.5 | N39: 1205.2 | O39: 1328.7 | P39: 1467.4 | Q39: 1726.6 | R39: 2021.7 | S39: 2318.6 | T39: 2639.3
A40: Import Excise | B40: 294.8 | C40: 272.5 | D40: 250.6 | E40: 298.7 | F40: 272.2 | G40: 347.8 | H40: 300.8 | I40: 299.7 | J40: 257.6 | K40: 282.8 | L40: 247.2 | M40: 327.6 | N40: 506.1 | O40: 572.1 | P40: 608.3 | Q40: 765.5 | R40: 852 | S40: 1034.9 | T40: 1233.4
A41: Profits of fiscal monopolies | G41: 0 | H41: 0 | I41: 0 | K41: 0 | L41: 0 | M41: 0 | N41: 0 | O41: 0 | P41: 0 | Q41: 0 | R41: 0 | S41: 0 | T41: 0
A42: Taxes on specific services | B42: 149.9 | C42: 159.2 | D42: 176.7 | E42: 177.7 | F42: 175.7 | G42: 228.9 | H42: 248.1 | I42: 273 | J42: 172 | K42: 235.9 | L42: 371.5 | M42: 364.6 | N42: 402.3 | O42: 422.2 | P42: 402.9 | Q42: 454.5 | R42: 521.5 | S42: 572.3 | T42: 713.7
A43: Bookmakers' Turnover Tax | B43: 9.5 | C43: 8.8 | D43: 12.8 | E43: 9.4 | F43: 7.8 | G43: 36 | H43: 20.4 | I43: 17.2 | J43: 8.9 | K43: 6.6 | L43: 35.4 | M43: 15.9 | N43: 50.3 | O43: 62.1 | P43: 56.5 | Q43: 61.8 | R43: 68.7 | S43: 75.4 | T43: 82.6
A44: Gaming Machine Turnover Tax | B44: 133.9 | C44: 144.6 | D44: 158.1 | E44: 162.1 | F44: 163.5 | G44: 178.7 | H44: 205.1 | I44: 227.2 | J44: 157.7 | K44: 228.1 | L44: 328.1 | M44: 341.5 | N44: 348.4 | O44: 349 | P44: 343.9 | Q44: 390 | R44: 449.7 | S44: 493.5 | T44: 627.5
A45: Departure Tax | B45: 6.5 | C45: 5.9 | D45: 5.8 | E45: 6.2 | F45: 4.4 | G45: 14.2 | H45: 22.6 | I45: 28.6 | J45: 5.4 | K45: 1.3 | L45: 8 | M45: 7.1 | N45: 3.7 | O45: 11.2 | P45: 2.5 | Q45: 2.7 | R45: 3 | S45: 3.3 | T45: 3.6
...

Sheet Rev compare
A1: REVENUE COMPARISONS | B1: =C1-1 -> 1989 | C1: =D1-1 -> 1990 | D1: =E1-1 -> 1991 | E1: =F1-1 -> 1992 | F1: =G1-1 -> 1993 | G1: =H1-1 -> 1994 | H1: =I1-1 -> 1995 | I1: =J1-1 -> 1996 | ... K1: =L1-1 -> 1998 | L1: 1999 | M1: 2000 | N1: 2001 | O1: 2002 | P1: 2003 | Q1: 2004 | R1: 2005 | S1: =R1+1 -> 2006 | T1: =S1+1 -> 2007 | U1: =T1+1 -> 2008 | V1: 2009 | W1: 2010 | X1: 2011 | Y1: 2012 | Z1: 2013 | AA1: 2014 | AB1: 2015 | AC1: 2016 | AD1: ='Rev (Tb12)'!G1 -> 2017 | AE1: ='Rev (Tb12)'!H1 -> 2018 | AF1: ='Rev (Tb12)'!I1 -> 2019 | AG1: ='Rev (Tb12)'!J1 -> 2020 | AH1: ='Rev (Tb12)'!K1 -> 2021 | AI1: ='Rev (Tb12)'!L1 -> 2022 | AJ1: ='Rev (Tb12)'!M1 -> 2023 | AK1: ='Rev (Tb12)'!N1 -> 2024 | ... AQ1: ='Rev (Tb12)'!T1 -> 2030
A2: BY ECONOMIC CLASSIFICATION | B2: ACTUAL | C2: ACTUAL | D2: ACTUAL | E2: ACTUAL | F2: ACTUAL | G2: ACTUAL | H2: ACTUAL | I2: ACTUAL | J2: ACTUAL | K2: ACTUAL | L2: ACTUAL | M2: ACTUAL | N2: ACTUAL | O2: ACTUAL | P2: ACTUAL | Q2: ACTUAL | R2: ACTUAL | S2: ACTUAL | T2: ACTUAL | U2: ACTUAL | V2: ACTUAL | W2: ACTUAL | X2: ACTUAL | Y2: ACTUAL | Z2: ACTUAL | AA2: ACTUAL | AB2: ACTUAL | AC2: ACTUAL | AD2: ACTUAL | AE2: ='Rev (Tb12)'!H2 -> ACTUAL | AF2: ='Rev (Tb12)'!I2 -> ACTUAL | AG2: ='Rev (Tb12)'!J2 -> ACTUAL | AH2: ='Rev (Tb12)'!K2 -> ACTUAL | AI2: ='Rev (Tb12)'!L2 -> ACTUAL | AJ2: ='Rev (Tb12)'!M2 -> ACTUAL | AK2: ='Rev (Tb12)'!N2 -> ACTUAL | AL2: ='Rev (Tb12)'!O2 -> ACTUAL | ... AQ2: ='Rev (Tb12)'!T2 -> PROJECTION
A3: (Kina million) | C3: 1995 Budget | D3: 1995 Budget | E3: 1995 Budget | F3: 1995 Budget | G3: 1996 Budget | H3: 1999 Budget | I3: 1999 Budget | J3: 1999 Budget | Y3: 2016 Budget/ 2013 FBO | Z3: 2016 Budget/ 2013 FBO | AA3: 2016 Budget/ 2015 FBO | AB3: 2018 Budget/ 2015 FBO | AC3: 2018 Budget | AD3: ='Rev (Tb12)'!G3 -> 2019 Budget | AE3: ='Rev (Tb12)'!H3 -> 2020 Budget | AF3: ='Rev (Tb12)'!I3 -> 2019 FBO | AG3: ='Rev (Tb12)'!J3 -> 2020 FBO | AH3: ='Rev (Tb12)'!K3 -> 2021 FBO | AI3: ='Rev (Tb12)'!L3 -> 2022 FBO | AJ3: ='Rev (Tb12)'!M3 -> 2023 FBO | AK3: ='Rev (Tb12)'!N3 -> 2024 FBO | ... AQ3: ='Rev (Tb12)'!T3 -> 2026 Budget
A5: TOTAL REVENUE AND GRANTS (GFS2014) | Y5: ='Rev (Tb12)'!B5 -> 9418.9 | Z5: ='Rev (Tb12)'!C5 -> 9897.5 | AA5: ='Rev (Tb12)'!D5 -> 11874.9 | AB5: ='Rev (Tb12)'!E5 -> 11003.1 | AC5: ='Rev (Tb12)'!F5 -> 10485.5 | AD5: ='Rev (Tb12)'!G5 -> 11525.1 | AE5: ='Rev (Tb12)'!H5 -> 14085.1 | AF5: ='Rev (Tb12)'!I5 -> 13680.5 | ... AQ5: ='Rev (Tb12)'!T5 -> 43080.9
A6: TOTAL REVENUE AND GRANTS (GFS1986) | B6: 1013.9 | C6: 988.9 | D6: 1026.2 | E6: 1125.5 | F6: 1308.7 | G6: 1451.7 | H6: 1721.6 | I6: 1897.7 | J6: 2201.8 | K6: 2352.9 | L6: 2569 | M6: 2975.8 | N6: 3184.8 | O6: 3286.4 | P6: 3650.1 | Q6: 4349.6 | R6: 5326.8 | S6: 6311.6 | T6: 7028.6 | U6: 7073.3 | V6: 6651.3 | W6: 8278.9 | X6: 9304.9 | Y6: 9566 | Z6: 9832.7 | AA6: 11497.6 | AB6: 10963.5
A8: TAXES | Y8: ='Rev (Tb12)'!B7 -> 8219 | Z8: ='Rev (Tb12)'!C7 -> 8879.6 | AA8: ='Rev (Tb12)'!D7 -> 10232.1 | AB8: ='Rev (Tb12)'!E7 -> 9157.6 | AC8: ='Rev (Tb12)'!F7 -> 8421.6 | AD8: ='Rev (Tb12)'!G7 -> 9141.4 | AE8: ='Rev (Tb12)'!H7 -> 10475.9 | AF8: ='Rev (Tb12)'!I7 -> 10918.1 | ... AQ8: ='Rev (Tb12)'!T7 -> 35098.8
A9: TAXES | B9: 689.2 | C9: 591.6 | D9: 624.2 | E9: 762.4 | F9: 977.9 | G9: 1124.2 | H9: 1207.2 | I9: 1526.3 | J9: 1674.6 | K9: 1603 | L9: 1920.7 | M9: 2314.9 | N9: 2294.3 | O9: 2369.9 | P9: 2677.9 | Q9: 3220.1 | R9: 3744 | S9: 4944.8 | T9: 5854 | U9: 5756.1 | V9: 4974.5 | W9: 6434.7 | X9: 7904.2 | Y9: 8148.3 | Z9: 8588.5 | AA9: 9596 | AB9: 8797.6
A10: Personal Income Tax | Y10: ='Rev (Tb12)'!B11 -> 2645.1 | Z10: ='Rev (Tb12)'!C11 -> 2808.4 | AA10: ='Rev (Tb12)'!D11 -> 3195.1 | AB10: ='Rev (Tb12)'!E11 -> 3037.1 | AC10: ='Rev (Tb12)'!F11 -> 2844.3 | AD10: ='Rev (Tb12)'!G11 -> 3093.8 | AE10: ='Rev (Tb12)'!H11 -> 3101.9 | AF10: ='Rev (Tb12)'!I11 -> 3211.6 | ... AQ10: ='Rev (Tb12)'!T11 -> 7018.1
A11: Personal Income Tax | B11: 172.7 | C11: 186.2 | D11: 206.2 | E11: 235.5 | F11: 188.9 | G11: 193.7 | H11: 257.8 | I11: 317.3 | J11: 367.7 | K11: 448.7 | L11: 524.4 | M11: 544 | N11: 598.8 | O11: 694.3 | P11: 758.4 | Q11: 826.5 | R11: 841 | S11: 907 | T11: 1006.9 | U11: 1108.8 | V11: 1241.8 | W11: 1494 | X11: 2158.8 | Y11: 2648.7 | Z11: 2808.4 | AA11: 3195.1 | AB11: 3037.1
A12: Company Tax | Y12: ='Rev (Tb12)'!B13 -> 1740.5 | Z12: ='Rev (Tb12)'!C13 -> 2060.5 | AA12: ='Rev (Tb12)'!D13 -> 2522.4 | AB12: ='Rev (Tb12)'!E13 -> 2374.8 | AC12: ='Rev (Tb12)'!F13 -> 2093.8 | AD12: ='Rev (Tb12)'!G13 -> 1794.1 | AE12: ='Rev (Tb12)'!H13 -> 1933 | AF12: ='Rev (Tb12)'!I13 -> 1696.9 | ... AQ12: ='Rev (Tb12)'!T13 -> 6694.7
A13: Company Tax | B13: 85.3 | C13: 94.5 | D13: 89.9 | E13: 92 | F13: 109.6 | G13: 109.4 | H13: 99 | I13: 118 | J13: 150.1 | K13: 185.8 | L13: 246.4 | M13: 265.4 | N13: 252 | O13: 310.9 | P13: 334.5 | Q13: 436.7 | R13: 516.5 | S13: 550.6 | T13: 723.7 | U13: 888.1 | V13: 1121.4 | W13: 1192.1 | X13: 1543.4 | Y13: 1744.5 | Z13: 2060.5 | AA13: 2522.6 | AB13: 2374.8
A14: Mining and Petroleum Taxes | Y14: ='Rev (Tb12)'!B14 -> 981.1 | Z14: ='Rev (Tb12)'!C14 -> 666.7 | AA14: ='Rev (Tb12)'!D14 -> 794.2 | AB14: ='Rev (Tb12)'!E14 -> 195.4 | AC14: ='Rev (Tb12)'!F14 -> 92 | AD14: ='Rev (Tb12)'!G14 -> 113.6 | AE14: ='Rev (Tb12)'!H14 -> 775 | AF14: ='Rev (Tb12)'!I14 -> 760.7 | ... AQ14: ='Rev (Tb12)'!T14 -> 7189.4
A15: Mining and Petroleum Taxes | B15: 102.9 | E15: 66.9 | F15: 260 | G15: 272.4 | H15: 256.7 | I15: 405.4 | J15: 390 | K15: 245.1 | L15: 258.7 | M15: 426.9 | N15: 434.9 | O15: 258.9 | P15: 396.5 | Q15: 634.3 | R15: 1076.8 | S15: 1946.5 | T15: 2333.9 | U15: 1961.8 | V15: 693.1 | W15: 1476.3 | X15: 1903.2 | Y15: 981.1 | Z15: 666.7 | AA15: 794.2 | AB15: 195.4
A16: Royalties Tax | Y16: ='Rev (Tb12)'!B15 -> 11.4 | Z16: ='Rev (Tb12)'!C15 -> 18.6 | AA16: ='Rev (Tb12)'!D15 -> 22.4 | AB16: ='Rev (Tb12)'!E15 -> 30.8 | AC16: ='Rev (Tb12)'!F15 -> 26.6 | AD16: ='Rev (Tb12)'!G15 -> 25.6 | AE16: ='Rev (Tb12)'!H15 -> 26.3 | AF16: ='Rev (Tb12)'!I15 -> 25.8 | ... AQ16: ='Rev (Tb12)'!T15 -> 122.3
A17: Mining Levy | L17: 7.1 | M17: 108.5 | N17: 120.2 | O17: 105.9 | P17: 101.8 | Q17: 101.3 | R17: 73.1 | S17: 56.1 | T17: 56.6 | U17: 11.4
A18: Management Tax | Y18: ='Rev (Tb12)'!B16 -> 6.3 | Z18: ='Rev (Tb12)'!C16 -> 9.2 | AA18: ='Rev (Tb12)'!D16 -> 14.9 | AB18: ='Rev (Tb12)'!E16 -> 20.5 | AC18: ='Rev (Tb12)'!F16 -> 17.7 | AD18: ='Rev (Tb12)'!G16 -> 17.1 | AE18: ='Rev (Tb12)'!H16 -> 17.6 | AF18: ='Rev (Tb12)'!I16 -> 17.2 | ... AQ18: ='Rev (Tb12)'!T16 -> 83.9
A19: Dividend Withholding Tax Mining | Y19: ='Rev (Tb12)'!B18 -> 13.3 | Z19: ='Rev (Tb12)'!C18 -> 0 | AA19: ='Rev (Tb12)'!D18 -> 0 | AB19: 0 | AC19: ='Rev (Tb12)'!F18 -> 0 | AD19: ='Rev (Tb12)'!G18 -> 0 | AE19: ='Rev (Tb12)'!H18 -> 0 | AF19: ='Rev (Tb12)'!I18 -> 0 | AG19: ='Rev (Tb12)'!J18 -> 0 | AH19: ='Rev (Tb12)'!K18 -> 0 | AI19: ='Rev (Tb12)'!L18 -> 0 | AJ19: ='Rev (Tb12)'!M18 -> 0 | ... AQ19: ='Rev (Tb12)'!T18 -> 0
A20: Dividend Withholding Tax Non Mining | Y20: ='Rev (Tb12)'!B19 -> 163.2 | Z20: ='Rev (Tb12)'!C19 -> 244.5 | AA20: ='Rev (Tb12)'!D19 -> 186.1 | AB20: ='Rev (Tb12)'!E19 -> 168.9 | AC20: ='Rev (Tb12)'!F19 -> 132.6 | AD20: ='Rev (Tb12)'!G19 -> 181.7 | AE20: ='Rev (Tb12)'!H19 -> 154.6 | AF20: ='Rev (Tb12)'!I19 -> 215 | ... AQ20: ='Rev (Tb12)'!T19 -> 927.4
A21: Dividend Withholding Tax | B21: 9.3 | C21: 0 | D21: 15.9 | E21: 24.3 | F21: 24.1 | G21: 26.9 | H21: 27.9 | I21: 33.6 | J21: 34.1 | K21: 42.5 | L21: 47 | M21: 53.8 | N21: 57.9 | O21: 62.1 | P21: 117.2 | Q21: 123.2 | R21: 154.7 | S21: 200.9 | T21: 199.3 | U21: 189.9 | V21: 244.4 | W21: 278.8 | X21: 290.7 | Y21: 190.7 | Z21: 244.5 | AA21: 186.1 | AB21: 168.9
A22: Interest Withholding Tax | Y22: ='Rev (Tb12)'!B21 -> 67.4 | Z22: ='Rev (Tb12)'!C21 -> 38.5 | AA22: ='Rev (Tb12)'!D21 -> 43.1 | AB22: ='Rev (Tb12)'!E21 -> 66 | AC22: ='Rev (Tb12)'!F21 -> 78.7 | AD22: ='Rev (Tb12)'!G21 -> 91.4 | AE22: ='Rev (Tb12)'!H21 -> 110.8 | AF22: ='Rev (Tb12)'!I21 -> 128 | ... AQ22: ='Rev (Tb12)'!T21 -> 381.2
A23: Interest Withholding Tax | L23: 37 | M23: 64.2 | N23: 51.3 | O23: 21.9 | P23: 41.4 | Q23: 33.3 | R23: 17.9 | S23: 22.1 | T23: 19.3 | U23: 22 | V23: 32 | W23: 42.3 | X23: 40.4 | Y23: 67.4 | Z23: 38.5 | AA23: 42.9 | AB23: 66
A24: Gaming Tax | K24: 22.7 | L24: 49.6 | M24: 56.8 | N24: 51.7 | O24: 69 | P24: 55.3 | Q24: 78.6 | R24: 72.1 | S24: 92.4 | T24: 111.2 | U24: 99 | V24: 83.1 | W24: 91.7 | X24: 96.3 | Y24: 108.8 | Z24: 144.6 | AA24: 158.1 | AB24: 162.1
A25: Other: Direct | B25: 20 | C25: 27.1 | D25: 25 | E25: 26.5 | F25: 29.7 | G25: 33.6 | H25: 35.8 | I25: 37.3 | J25: 62.5 | K25: 67.8 | L25: 34.9 | M25: 58.8 | N25: 62.4 | O25: 73.9 | P25: 83.3 | Q25: 90.7 | R25: 91.9 | S25: 104 | T25: 97 | U25: 82.3 | V25: 103.9 | W25: 92.9 | X25: 111.3 | Y25: 133.9 | Z25: 118.1 | AA25: 208.5 | AB25: 211.7
A26: Sundry IRC Taxes & Income | Y26: ='Rev (Tb12)'!B23 -> 0.9 | Z26: ='Rev (Tb12)'!C23 -> 2 | AA26: ='Rev (Tb12)'!D23 -> 0.7 | AB26: ='Rev (Tb12)'!E23 -> 0.6 | AC26: ='Rev (Tb12)'!F23 -> 0.5 | AD26: ='Rev (Tb12)'!G23 -> 0.02 | AE26: ='Rev (Tb12)'!H23 -> 0 | AF26: ='Rev (Tb12)'!I23 -> 0 | ... AQ26: ='Rev (Tb12)'!T23 -> 0.7
A27: Tax related court fines | AF27: ='Rev (Tb12)'!I22 -> 14.6 | AG27: ='Rev (Tb12)'!J22 -> 12.6 | AH27: ='Rev (Tb12)'!K22 -> 0 | AI27: ='Rev (Tb12)'!L22 -> 0 | AJ27: ='Rev (Tb12)'!M22 -> 0 | AK27: ='Rev (Tb12)'!N22 -> 0 | AL27: ='Rev (Tb12)'!O22 -> 0 | AM27: ='Rev (Tb12)'!P22 -> 0 | ... AQ27: ='Rev (Tb12)'!T22 -> 0
A28: Taxes on Payroll and Workforce | Y28: ='Rev (Tb12)'!B25 -> 3.7 | Z28: ='Rev (Tb12)'!C25 -> 6.4 | AA28: ='Rev (Tb12)'!D25 -> 14.6 | AB28: ='Rev (Tb12)'!E25 -> 18 | AC28: ='Rev (Tb12)'!F25 -> 14.4 | AD28: ='Rev (Tb12)'!G25 -> 11.2 | AE28: ='Rev (Tb12)'!H25 -> 8.6 | AF28: ='Rev (Tb12)'!I25 -> 1.9 | ... AQ28: ='Rev (Tb12)'!T25 -> 3.3
A30: GST | Y30: ='Rev (Tb12)'!B31 -> 1092.1 | Z30: ='Rev (Tb12)'!C31 -> 1496.1 | AA30: ='Rev (Tb12)'!D31 -> 1668.8 | AB30: ='Rev (Tb12)'!E31 -> 1567 | AC30: ='Rev (Tb12)'!F31 -> 1442.6 | AD30: ='Rev (Tb12)'!G31 -> 1868.8 | AE30: ='Rev (Tb12)'!H31 -> 2067.1 | AF30: ='Rev (Tb12)'!I31 -> 2252.5 | ... AQ30: ='Rev (Tb12)'!T31 -> 6184.8
A31: GST | L31: 146 | M31: 218.2 | N31: 198.3 | O31: 289.6 | P31: 311.8 | Q31: 315.7 | R31: 326.2 | S31: 401.1 | T31: 557.5 | U31: 610.9 | V31: 703 | W31: 778.1 | X31: 525.5 | Y31: 1010 | Z31: 1217.2 | AA31: 1042 | AB31: 1214
A32: Stamp Duties | Y32: ='Rev (Tb12)'!B37 -> 70.2 | Z32: ='Rev (Tb12)'!C37 -> 67.3 | AA32: ='Rev (Tb12)'!D37 -> 137.3 | AB32: ='Rev (Tb12)'!E37 -> 126.1 | AC32: ='Rev (Tb12)'!F37 -> 79.2 | AD32: ='Rev (Tb12)'!G37 -> 42.4 | AE32: ='Rev (Tb12)'!H37 -> 100.3 | AF32: ='Rev (Tb12)'!I37 -> 46.6 | ... AQ32: ='Rev (Tb12)'!T37 -> 136.6
A33: Excise Duty | Y33: ='Rev (Tb12)'!B39 -> 560.5 | Z33: ='Rev (Tb12)'!C39 -> 541.9 | AA33: ='Rev (Tb12)'!D39 -> 638.6 | AB33: ='Rev (Tb12)'!E39 -> 503.3 | AC33: ='Rev (Tb12)'!F39 -> 603.7 | AD33: ='Rev (Tb12)'!G39 -> 757.3 | AE33: ='Rev (Tb12)'!H39 -> 774 | AF33: ='Rev (Tb12)'!I39 -> 1061 | AG33: ='Rev (Tb12)'!J40 -> 257.6 | AH33: ='Rev (Tb12)'!K39 -> 998.3 | AI33: ='Rev (Tb12)'!L39 -> 1157.2 | AJ33: ='Rev (Tb12)'!M39 -> 896.5 | AK33: ='Rev (Tb12)'!N39 -> 1205.2 | AL33: ='Rev (Tb12)'!O39 -> 1328.7 | AM33: ='Rev (Tb12)'!P39 -> 1467.4 | AN33: ='Rev (Tb12)'!Q39 -> 1726.6 | AO33: ='Rev (Tb12)'!R39 -> 2021.7 | ... AQ33: ='Rev (Tb12)'!T39 -> 2639.3
A34: Excise | B34: 82.5 | C34: 90 | D34: 79.2 | E34: 93 | F34: 92.8 | G34: 103.9 | H34: 103 | I34: 114.9 | J34: 148.6 | K34: 152.2 | L34: 141.3 | M34: 175.4 | N34: 186.5 | O34: 178.8 | P34: 174.7 | Q34: 203.1 | R34: 255.9 | S34: 324.1 | T34: 342 | U34: 365.5 | V34: 354.7 | W34: 399.2 | X34: 509.6 | Y34: 560.5 | Z34: 541.9 | AA34: 636.6 | AB34: 503.3
A35: Import Excise | Y35: ='Rev (Tb12)'!B40 -> 294.8 | Z35: ='Rev (Tb12)'!C40 -> 272.5 | AA35: ='Rev (Tb12)'!D40 -> 250.6 | AB35: ='Rev (Tb12)'!E40 -> 298.7 | AC35: ='Rev (Tb12)'!F40 -> 272.2 | AD35: ='Rev (Tb12)'!G40 -> 347.8 | AE35: ='Rev (Tb12)'!H40 -> 300.8 | AF35: ='Rev (Tb12)'!I40 -> 299.7 | ... AQ35: ='Rev (Tb12)'!T40 -> 1233.4
A36: Excise Duty on Imports | L36: 37.2 | M36: 118.9 | N36: 108.4 | O36: 117 | P36: 109.8 | Q36: 123.3 | R36: 78.5 | S36: 84 | T36: 113.1 | U36: 126 | V36: 139.2 | W36: 211.3 | X36: 227.4 | Y36: 294.8 | Z36: 272.5 | AA36: 250.6 | AB36: 298.7
A37: Bookmakers Turnover Tax | Y37: ='Rev (Tb12)'!B43 -> 9.5 | Z37: ='Rev (Tb12)'!C43 -> 8.8 | AA37: ='Rev (Tb12)'!D43 -> 12.8 | AB37: ='Rev (Tb12)'!E43 -> 9.4 | AC37: ='Rev (Tb12)'!F43 -> 7.8 | AD37: ='Rev (Tb12)'!G43 -> 36 | AE37: ='Rev (Tb12)'!H43 -> 20.4 | AF37: ='Rev (Tb12)'!I43 -> 17.2 | ... AQ37: ='Rev (Tb12)'!T43 -> 82.6
A38: Gaming Machine Turnover Tax | Y38: ='Rev (Tb12)'!B44 -> 133.9 | Z38: ='Rev (Tb12)'!C44 -> 144.6 | AA38: ='Rev (Tb12)'!D44 -> 158.1 | AB38: ='Rev (Tb12)'!E44 -> 162.1 | AC38: ='Rev (Tb12)'!F44 -> 163.5 | AD38: ='Rev (Tb12)'!G44 -> 178.7 | AE38: ='Rev (Tb12)'!H44 -> 205.1 | AF38: ='Rev (Tb12)'!I44 -> 227.2 | ... AQ38: ='Rev (Tb12)'!T44 -> 627.5
A39: Departure Tax | Y39: ='Rev (Tb12)'!B45 -> 6.5 | Z39: ='Rev (Tb12)'!C45 -> 5.9 | AA39: ='Rev (Tb12)'!D45 -> 5.8 | AB39: ='Rev (Tb12)'!E45 -> 6.2 | AC39: ='Rev (Tb12)'!F45 -> 4.4 | AD39: ='Rev (Tb12)'!G45 -> 14.2 | AE39: ='Rev (Tb12)'!H45 -> 22.6 | AF39: ='Rev (Tb12)'!I45 -> 28.6 | ... AQ39: ='Rev (Tb12)'!T45 -> 3.6
A40: Motor vehicles taxes | Y40: ='Rev (Tb12)'!B47 -> 6.7 | Z40: ='Rev (Tb12)'!C47 -> 7.3 | AA40: ='Rev (Tb12)'!D47 -> 8.2 | AB40: ='Rev (Tb12)'!E47 -> 5.7 | AC40: ='Rev (Tb12)'!F47 -> 6.8 | AD40: ='Rev (Tb12)'!G47 -> 6.4 | AE40: ='Rev (Tb12)'!H47 -> 2.2 | AF40: ='Rev (Tb12)'!I47 -> 0 | ... AQ40: ='Rev (Tb12)'!T47 -> 8.9
A41: Other taxes on use of goods and on permission to use goods or perform activities | Y41: ='Rev (Tb12)'!B48 -> 3.9 | Z41: ='Rev (Tb12)'!C48 -> 5 | AA41: ='Rev (Tb12)'!D48 -> 1 | AB41: ='Rev (Tb12)'!E48 -> 1.1 | AC41: ='Rev (Tb12)'!F48 -> 0.8 | AD41: ='Rev (Tb12)'!G48 -> 5.8 | AE41: ='Rev (Tb12)'!H48 -> 1.8 | AF41: ='Rev (Tb12)'!I48 -> 0 | ... AQ41: ='Rev (Tb12)'!T48 -> 2.1
A42: Other taxes on goods and services | Y42: ='Rev (Tb12)'!B60 -> 5 | Z42: ='Rev (Tb12)'!C60 -> - | AA42: ='Rev (Tb12)'!D60 -> 2.5 | AB42: ='Rev (Tb12)'!E60 -> 0.4 | AC42: ='Rev (Tb12)'!F60 -> 3.1 | AD42: ='Rev (Tb12)'!G60 -> 2.7 | AE42: ='Rev (Tb12)'!H60 -> 44.3 | AF42: ='Rev (Tb12)'!I60 -> 1.2 | ... AQ42: ='Rev (Tb12)'!T60 -> 16
A44: Import Duty | Y44: ='Rev (Tb12)'!B64 -> 223 | Z44: ='Rev (Tb12)'!C64 -> 257.2 | AA44: ='Rev (Tb12)'!D64 -> 273.2 | AB44: ='Rev (Tb12)'!E64 -> 243.4 | AC44: ='Rev (Tb12)'!F64 -> 242.9 | AD44: ='Rev (Tb12)'!G64 -> 246.4 | AE44: ='Rev (Tb12)'!H64 -> 325.3 | AF44: ='Rev (Tb12)'!I64 -> 409.4 | ... AQ44: ='Rev (Tb12)'!T64 -> 1201.8
...

Sheet Exp (Tb13A)
B1: TABLE 13A: GENERAL GOVERNMENT EXPENSE | C1: 2012 | D1: 2013 | E1: 2014 | F1: 2015 | G1: 2016 | H1: 2017 | I1: 2018 | J1: 2019 | K1: 2020 | L1: 2021 | M1: 2022 | N1: 2023 | O1: 2024 | P1: 2025 | Q1: 2026 Budget | R1: 2027 | S1: 2028 | T1: 2029 | U1: 2030
B2: BY ECONOMIC CLASSIFICATION | C2: ACTUAL | D2: ACTUAL | E2: ACTUAL | F2: ACTUAL | G2: ACTUAL | H2: ACTUAL | I2: ACTUAL | J2: ACTUAL | K2: ACTUAL | L2: ACTUAL | M2: ACTUAL | N2: ACTUAL | O2: ACTUAL | P2: ACTUAL | Q2: PROJECTION | R2: PROJECTION | S2: PROJECTION | T2: PROJECTION | U2: PROJECTION
B3: (Kina million) | C3: 2016 Budget | D3: 2016 Budget | E3: 2016 Budget | F3: 2018 Budget | G3: 2018 Budget | H3: 2019 Budget | I3: 2020 Budget | J3: 2019 FBO | K3: 2020 FBO | L3: 2021 FBO | M3: 2022 FBO | N3: 2023 FBO | O3: 2024 FBO | P3: 2025 FBO | Q3: 2026 Budget | R3: 2026 Budget | S3: 2026 Budget | T3: 2026 Budget | U3: 2026 Budget
A5: 2 | B5: TOTAL EXPENDITURE | C5: 9943.3 | D5: 13175.5 | E5: 15453.9 | F5: 13788.8 | G5: =G7+G13+G15+G19+G23+G25+G29 -> 13572.5 | H5: =H7+H13+H15+H19+H23+H25+H29 -> 13319.9 | I5: 16134.2 | J5: 17852.5 | K5: 19397.8 | L5: 20130.7 | M5: 24390 | N5: 24614.6 | O5: 24757.3 | P5: 26115.1 | Q5: 30265.2 | R5: 31450.5 | S5: 32968.9 | T5: 34536.1 | U5: 36326.3
